Package: rexposome Version: 1.29.0 Command: /home/biocbuild/bbs-3.21-bioc/R/bin/R CMD check --install=check:rexposome.install-out.txt --library=/home/biocbuild/bbs-3.21-bioc/R/site-library --timings rexposome_1.29.0.tar.gz StartedAt: 2025-02-10 01:51:29 -0500 (Mon, 10 Feb 2025) EndedAt: 2025-02-10 01:55:20 -0500 (Mon, 10 Feb 2025) EllapsedTime: 230.5 seconds RetCode: 0 Status: WARNINGS CheckDir: rexposome.Rcheck Warnings: 5