Package: rexposome Version: 1.29.0 Command: rm -rf rexposome.buildbin-libdir && mkdir rexposome.buildbin-libdir && E:\biocbuild\bbs-3.21-bioc\R\bin\R.exe CMD INSTALL --build --library=rexposome.buildbin-libdir rexposome_1.29.0.tar.gz StartedAt: 2025-02-04 08:45:02 -0500 (Tue, 04 Feb 2025) EndedAt: 2025-02-04 08:46:20 -0500 (Tue, 04 Feb 2025) EllapsedTime: 77.5 seconds RetCode: 0 Status: OK PackageFile: rexposome_1.29.0.zip PackageFileSize: 6.008 MiB