Package: rexposome Version: 1.29.0 Command: chmod a+r rexposome -R && E:\biocbuild\bbs-3.21-bioc\R\bin\R.exe CMD build --keep-empty-dirs --no-resave-data rexposome StartedAt: 2025-02-03 21:22:08 -0500 (Mon, 03 Feb 2025) EndedAt: 2025-02-03 21:24:57 -0500 (Mon, 03 Feb 2025) EllapsedTime: 169.3 seconds RetCode: 0 Status: OK PackageFile: rexposome_1.29.0.tar.gz PackageFileSize: 5.516 MiB