Package: rexposome Version: 1.29.0 Command: E:\biocbuild\bbs-3.21-bioc\R\bin\R.exe CMD check --no-multiarch --install=check:rexposome.install-out.txt --library=E:\biocbuild\bbs-3.21-bioc\R\library --no-vignettes --timings rexposome_1.29.0.tar.gz StartedAt: 2025-02-10 04:39:24 -0500 (Mon, 10 Feb 2025) EndedAt: 2025-02-10 04:42:47 -0500 (Mon, 10 Feb 2025) EllapsedTime: 203.2 seconds RetCode: 0 Status: WARNINGS CheckDir: rexposome.Rcheck Warnings: 5