Package: rfPred Version: 1.45.0 Command: /home/biocbuild/R/R/bin/R CMD build --keep-empty-dirs --no-resave-data rfPred StartedAt: 2025-01-29 01:39:32 -0000 (Wed, 29 Jan 2025) EndedAt: 2025-01-29 01:39:55 -0000 (Wed, 29 Jan 2025) EllapsedTime: 23.0 seconds RetCode: 0 Status: OK PackageFile: rfPred_1.45.0.tar.gz PackageFileSize: 1.047 MiB