Package: rfPred Version: 1.45.0 Command: /home/biocbuild/R/R/bin/R CMD INSTALL rfPred StartedAt: 2025-01-29 19:46:51 -0000 (Wed, 29 Jan 2025) EndedAt: 2025-01-29 19:47:06 -0000 (Wed, 29 Jan 2025) EllapsedTime: 15.4 seconds RetCode: 0 Status: OK