Package: rfPred Version: 1.45.0 Command: /Library/Frameworks/R.framework/Resources/bin/R CMD build --keep-empty-dirs --no-resave-data rfPred StartedAt: 2025-02-05 18:02:02 -0500 (Wed, 05 Feb 2025) EndedAt: 2025-02-05 18:02:27 -0500 (Wed, 05 Feb 2025) EllapsedTime: 25.2 seconds RetCode: 0 Status: OK PackageFile: rfPred_1.45.0.tar.gz PackageFileSize: 1.053 MiB