Package: rfPred Version: 1.45.0 Command: /Library/Frameworks/R.framework/Resources/bin/R CMD check --install=check:rfPred.install-out.txt --library=/Library/Frameworks/R.framework/Resources/library --no-vignettes --timings rfPred_1.45.0.tar.gz StartedAt: 2025-02-03 22:48:34 -0500 (Mon, 03 Feb 2025) EndedAt: 2025-02-03 22:50:08 -0500 (Mon, 03 Feb 2025) EllapsedTime: 94.0 seconds RetCode: 0 Status: OK CheckDir: rfPred.Rcheck Warnings: 0