Package: rfPred Version: 1.45.0 Command: /Library/Frameworks/R.framework/Resources/bin/R CMD INSTALL rfPred StartedAt: 2025-02-03 15:20:04 -0500 (Mon, 03 Feb 2025) EndedAt: 2025-02-03 15:20:21 -0500 (Mon, 03 Feb 2025) EllapsedTime: 17.0 seconds RetCode: 0 Status: OK