Package: rfPred Version: 1.45.0 Command: /home/biocbuild/bbs-3.21-bioc/R/bin/R CMD build --keep-empty-dirs --no-resave-data rfPred StartedAt: 2025-02-09 18:54:34 -0500 (Sun, 09 Feb 2025) EndedAt: 2025-02-09 18:54:53 -0500 (Sun, 09 Feb 2025) EllapsedTime: 19.0 seconds RetCode: 0 Status: OK PackageFile: rfPred_1.45.0.tar.gz PackageFileSize: 1.053 MiB