Package: rfPred Version: 1.45.0 Command: rm -rf rfPred.buildbin-libdir && mkdir rfPred.buildbin-libdir && E:\biocbuild\bbs-3.21-bioc\R\bin\R.exe CMD INSTALL --build --library=rfPred.buildbin-libdir rfPred_1.45.0.tar.gz StartedAt: 2025-02-10 08:32:20 -0500 (Mon, 10 Feb 2025) EndedAt: 2025-02-10 08:32:38 -0500 (Mon, 10 Feb 2025) EllapsedTime: 18.1 seconds RetCode: 0 Status: OK PackageFile: rfPred_1.45.0.zip PackageFileSize: 1.084 MiB