Package: rfPred Version: 1.45.0 Command: chmod a+r rfPred -R && E:\biocbuild\bbs-3.21-bioc\R\bin\R.exe CMD build --keep-empty-dirs --no-resave-data rfPred StartedAt: 2025-02-03 21:22:22 -0500 (Mon, 03 Feb 2025) EndedAt: 2025-02-03 21:22:55 -0500 (Mon, 03 Feb 2025) EllapsedTime: 33.0 seconds RetCode: 0 Status: OK PackageFile: rfPred_1.45.0.tar.gz PackageFileSize: 1.054 MiB