Package: rfPred Version: 1.45.0 Command: E:\biocbuild\bbs-3.21-bioc\R\bin\R.exe CMD INSTALL rfPred StartedAt: 2025-02-03 15:56:03 -0500 (Mon, 03 Feb 2025) EndedAt: 2025-02-03 15:56:22 -0500 (Mon, 03 Feb 2025) EllapsedTime: 19.1 seconds RetCode: 0 Status: OK