Package: rfaRm Version: 1.19.0 Command: /Library/Frameworks/R.framework/Resources/bin/R CMD INSTALL rfaRm StartedAt: 2025-02-12 15:26:08 -0500 (Wed, 12 Feb 2025) EndedAt: 2025-02-12 15:26:14 -0500 (Wed, 12 Feb 2025) EllapsedTime: 6.4 seconds RetCode: 0 Status: OK