Package: rfaRm Version: 1.19.0 Command: /Library/Frameworks/R.framework/Resources/bin/R CMD build --keep-empty-dirs --no-resave-data rfaRm StartedAt: 2025-02-09 18:09:17 -0500 (Sun, 09 Feb 2025) EndedAt: 2025-02-09 18:10:09 -0500 (Sun, 09 Feb 2025) EllapsedTime: 51.5 seconds RetCode: 0 Status: OK PackageFile: rfaRm_1.19.0.tar.gz PackageFileSize: 560.9 KiB