Package: rfaRm Version: 1.19.0 Command: /Library/Frameworks/R.framework/Resources/bin/R CMD INSTALL rfaRm StartedAt: 2025-02-09 15:39:38 -0500 (Sun, 09 Feb 2025) EndedAt: 2025-02-09 15:40:01 -0500 (Sun, 09 Feb 2025) EllapsedTime: 23.5 seconds RetCode: 0 Status: OK