Package: rfaRm Version: 1.19.0 Command: /home/biocbuild/bbs-3.21-bioc/R/bin/R CMD build --keep-empty-dirs --no-resave-data rfaRm StartedAt: 2025-02-12 18:50:21 -0500 (Wed, 12 Feb 2025) EndedAt: 2025-02-12 18:51:12 -0500 (Wed, 12 Feb 2025) EllapsedTime: 51.1 seconds RetCode: 0 Status: OK PackageFile: rfaRm_1.19.0.tar.gz PackageFileSize: 760.3 KiB