Package: rfaRm Version: 1.19.0 Command: rm -rf rfaRm.buildbin-libdir && mkdir rfaRm.buildbin-libdir && E:\biocbuild\bbs-3.21-bioc\R\bin\R.exe CMD INSTALL --build --library=rfaRm.buildbin-libdir rfaRm_1.19.0.tar.gz StartedAt: 2025-02-13 08:42:30 -0500 (Thu, 13 Feb 2025) EndedAt: 2025-02-13 08:42:56 -0500 (Thu, 13 Feb 2025) EllapsedTime: 26.4 seconds RetCode: 0 Status: OK PackageFile: rfaRm_1.19.0.zip PackageFileSize: 480.4 KiB