Package: rgoslin Version: 1.11.0 Command: /home/biocbuild/R/R/bin/R CMD build --keep-empty-dirs --no-resave-data rgoslin StartedAt: 2025-01-29 01:39:55 -0000 (Wed, 29 Jan 2025) EndedAt: 2025-01-29 01:44:37 -0000 (Wed, 29 Jan 2025) EllapsedTime: 282.2 seconds RetCode: 0 Status: OK PackageFile: rgoslin_1.11.0.tar.gz PackageFileSize: 533 KiB