Package: rgoslin Version: 1.11.0 Command: /home/biocbuild/R/R/bin/R CMD INSTALL rgoslin StartedAt: 2025-01-29 20:37:10 -0000 (Wed, 29 Jan 2025) EndedAt: 2025-01-29 20:41:25 -0000 (Wed, 29 Jan 2025) EllapsedTime: 254.8 seconds RetCode: 0 Status: OK