Package: rgoslin Version: 1.11.0 Command: rm -rf rgoslin.buildbin-libdir && mkdir rgoslin.buildbin-libdir && /Users/biocbuild/BBS/utils/build-universal.sh rgoslin_1.11.0.tar.gz /Library/Frameworks/R.framework/Resources/bin/R rgoslin.buildbin-libdir StartedAt: 2025-02-13 00:54:03 -0500 (Thu, 13 Feb 2025) EndedAt: 2025-02-13 00:58:15 -0500 (Thu, 13 Feb 2025) EllapsedTime: 252.2 seconds RetCode: 0 Status: OK PackageFile: rgoslin_1.11.0.tgz PackageFileSize: 1.174 MiB