Package: rgoslin Version: 1.11.0 Command: chmod a+r rgoslin -R && E:\biocbuild\bbs-3.21-bioc\R\bin\R.exe CMD build --keep-empty-dirs --no-resave-data rgoslin StartedAt: 2025-02-12 21:16:29 -0500 (Wed, 12 Feb 2025) EndedAt: 2025-02-12 21:20:54 -0500 (Wed, 12 Feb 2025) EllapsedTime: 265.7 seconds RetCode: 0 Status: OK PackageFile: rgoslin_1.11.0.tar.gz PackageFileSize: 466.3 KiB