Package: rgsepd Version: 1.39.0 Command: /Library/Frameworks/R.framework/Resources/bin/R CMD build --keep-empty-dirs --no-resave-data rgsepd StartedAt: 2025-02-05 17:25:41 -0500 (Wed, 05 Feb 2025) EndedAt: 2025-02-05 17:27:31 -0500 (Wed, 05 Feb 2025) EllapsedTime: 109.2 seconds RetCode: 0 Status: OK PackageFile: rgsepd_1.39.0.tar.gz PackageFileSize: 1.184 MiB