Package: rgsepd Version: 1.39.0 Command: /Library/Frameworks/R.framework/Resources/bin/R CMD INSTALL rgsepd StartedAt: 2025-02-05 15:14:13 -0500 (Wed, 05 Feb 2025) EndedAt: 2025-02-05 15:15:28 -0500 (Wed, 05 Feb 2025) EllapsedTime: 75.2 seconds RetCode: 0 Status: OK