Package: rgsepd Version: 1.39.0 Command: /home/biocbuild/R/R/bin/R CMD build --keep-empty-dirs --no-resave-data rgsepd StartedAt: 2025-01-29 01:40:29 -0000 (Wed, 29 Jan 2025) EndedAt: 2025-01-29 01:45:43 -0000 (Wed, 29 Jan 2025) EllapsedTime: 313.2 seconds RetCode: 0 Status: OK PackageFile: rgsepd_1.39.0.tar.gz PackageFileSize: 1.253 MiB