Package: rgsepd Version: 1.39.0 Command: /home/biocbuild/R/R/bin/R CMD INSTALL rgsepd StartedAt: 2025-01-29 20:03:52 -0000 (Wed, 29 Jan 2025) EndedAt: 2025-01-29 20:06:55 -0000 (Wed, 29 Jan 2025) EllapsedTime: 183.2 seconds RetCode: 0 Status: OK