Package: rgsepd Version: 1.39.0 Command: /Library/Frameworks/R.framework/Resources/bin/R CMD check --install=check:rgsepd.install-out.txt --library=/Library/Frameworks/R.framework/Resources/library --no-vignettes --timings rgsepd_1.39.0.tar.gz StartedAt: 2025-02-05 22:46:47 -0500 (Wed, 05 Feb 2025) EndedAt: 2025-02-05 22:55:35 -0500 (Wed, 05 Feb 2025) EllapsedTime: 528.9 seconds RetCode: 0 Status: OK CheckDir: rgsepd.Rcheck Warnings: 0