Package: rgsepd Version: 1.39.0 Command: /Library/Frameworks/R.framework/Resources/bin/R CMD INSTALL rgsepd StartedAt: 2025-02-05 15:24:31 -0500 (Wed, 05 Feb 2025) EndedAt: 2025-02-05 15:27:48 -0500 (Wed, 05 Feb 2025) EllapsedTime: 196.9 seconds RetCode: 0 Status: OK