Package: rgsepd Version: 1.39.0 Command: /home/biocbuild/bbs-3.21-bioc/R/bin/R CMD check --install=check:rgsepd.install-out.txt --library=/home/biocbuild/bbs-3.21-bioc/R/site-library --timings rgsepd_1.39.0.tar.gz StartedAt: 2025-02-06 01:56:28 -0500 (Thu, 06 Feb 2025) EndedAt: 2025-02-06 02:05:52 -0500 (Thu, 06 Feb 2025) EllapsedTime: 564.0 seconds RetCode: 0 Status: OK CheckDir: rgsepd.Rcheck Warnings: 0