Package: rgsepd Version: 1.39.0 Command: /home/biocbuild/bbs-3.21-bioc/R/bin/R CMD INSTALL rgsepd StartedAt: 2025-02-05 15:40:23 -0500 (Wed, 05 Feb 2025) EndedAt: 2025-02-05 15:42:54 -0500 (Wed, 05 Feb 2025) EllapsedTime: 150.5 seconds RetCode: 0 Status: OK