Package: rgsepd Version: 1.39.0 Command: rm -rf rgsepd.buildbin-libdir && mkdir rgsepd.buildbin-libdir && E:\biocbuild\bbs-3.21-bioc\R\bin\R.exe CMD INSTALL --build --library=rgsepd.buildbin-libdir rgsepd_1.39.0.tar.gz StartedAt: 2025-02-06 08:50:28 -0500 (Thu, 06 Feb 2025) EndedAt: 2025-02-06 08:53:28 -0500 (Thu, 06 Feb 2025) EllapsedTime: 180.0 seconds RetCode: 0 Status: OK PackageFile: rgsepd_1.39.0.zip PackageFileSize: 1.283 MiB