Package: rgsepd Version: 1.39.0 Command: E:\biocbuild\bbs-3.21-bioc\R\bin\R.exe CMD INSTALL rgsepd StartedAt: 2025-02-05 16:10:14 -0500 (Wed, 05 Feb 2025) EndedAt: 2025-02-05 16:12:59 -0500 (Wed, 05 Feb 2025) EllapsedTime: 164.6 seconds RetCode: 0 Status: OK