Package: rhdf5client Version: 1.29.0 Command: /Library/Frameworks/R.framework/Resources/bin/R CMD check --install=check:rhdf5client.install-out.txt --library=/Library/Frameworks/R.framework/Resources/library --no-vignettes --timings rhdf5client_1.29.0.tar.gz StartedAt: 2025-02-05 21:03:04 -0500 (Wed, 05 Feb 2025) EndedAt: 2025-02-05 21:04:01 -0500 (Wed, 05 Feb 2025) EllapsedTime: 56.8 seconds RetCode: 0 Status: OK CheckDir: rhdf5client.Rcheck Warnings: 0