Package: rhdf5client Version: 1.29.0 Command: /home/biocbuild/R/R/bin/R CMD build --keep-empty-dirs --no-resave-data rhdf5client StartedAt: 2025-01-29 01:40:31 -0000 (Wed, 29 Jan 2025) EndedAt: 2025-01-29 01:42:07 -0000 (Wed, 29 Jan 2025) EllapsedTime: 96.1 seconds RetCode: 0 Status: OK PackageFile: rhdf5client_1.29.0.tar.gz PackageFileSize: 559 KiB