Package: rhdf5client Version: 1.29.0 Command: /home/biocbuild/R/R/bin/R CMD INSTALL rhdf5client StartedAt: 2025-01-29 19:37:15 -0000 (Wed, 29 Jan 2025) EndedAt: 2025-01-29 19:37:39 -0000 (Wed, 29 Jan 2025) EllapsedTime: 24.0 seconds RetCode: 0 Status: OK