Package: rhdf5client Version: 1.29.0 Command: /Library/Frameworks/R.framework/Resources/bin/R CMD INSTALL rhdf5client StartedAt: 2025-02-12 15:08:35 -0500 (Wed, 12 Feb 2025) EndedAt: 2025-02-12 15:09:19 -0500 (Wed, 12 Feb 2025) EllapsedTime: 44.3 seconds RetCode: 0 Status: OK