Package: rhdf5client Version: 1.29.0 Command: /home/biocbuild/bbs-3.21-bioc/R/bin/R CMD build --keep-empty-dirs --no-resave-data rhdf5client StartedAt: 2025-02-09 18:55:14 -0500 (Sun, 09 Feb 2025) EndedAt: 2025-02-09 18:55:49 -0500 (Sun, 09 Feb 2025) EllapsedTime: 35.0 seconds RetCode: 1 Status: ERROR PackageFile: None PackageFileSize: NA