Package: rhdf5client Version: 1.29.0 Command: /home/biocbuild/bbs-3.21-bioc/R/bin/R CMD check --install=check:rhdf5client.install-out.txt --library=/home/biocbuild/bbs-3.21-bioc/R/site-library --timings rhdf5client_1.29.0.tar.gz StartedAt: 2025-02-06 01:56:55 -0500 (Thu, 06 Feb 2025) EndedAt: 2025-02-06 01:59:10 -0500 (Thu, 06 Feb 2025) EllapsedTime: 135.2 seconds RetCode: 0 Status: OK CheckDir: rhdf5client.Rcheck Warnings: 0