Package: rhdf5client Version: 1.29.0 Command: /home/biocbuild/bbs-3.21-bioc/R/bin/R CMD INSTALL rhdf5client StartedAt: 2025-02-09 15:16:12 -0500 (Sun, 09 Feb 2025) EndedAt: 2025-02-09 15:16:30 -0500 (Sun, 09 Feb 2025) EllapsedTime: 17.9 seconds RetCode: 0 Status: OK