Package: rhdf5client Version: 1.29.0 Command: rm -rf rhdf5client.buildbin-libdir && mkdir rhdf5client.buildbin-libdir && E:\biocbuild\bbs-3.21-bioc\R\bin\R.exe CMD INSTALL --build --library=rhdf5client.buildbin-libdir rhdf5client_1.29.0.tar.gz StartedAt: 2025-02-06 08:50:32 -0500 (Thu, 06 Feb 2025) EndedAt: 2025-02-06 08:51:37 -0500 (Thu, 06 Feb 2025) EllapsedTime: 64.8 seconds RetCode: 0 Status: OK PackageFile: rhdf5client_1.29.0.zip PackageFileSize: 987.8 KiB