Package: rhdf5client Version: 1.29.0 Command: chmod a+r rhdf5client -R && E:\biocbuild\bbs-3.21-bioc\R\bin\R.exe CMD build --keep-empty-dirs --no-resave-data rhdf5client StartedAt: 2025-02-09 21:11:07 -0500 (Sun, 09 Feb 2025) EndedAt: 2025-02-09 21:12:55 -0500 (Sun, 09 Feb 2025) EllapsedTime: 107.8 seconds RetCode: 1 Status: ERROR PackageFile: None PackageFileSize: NA