Package: rhdf5client Version: 1.29.0 Command: E:\biocbuild\bbs-3.21-bioc\R\bin\R.exe CMD check --no-multiarch --install=check:rhdf5client.install-out.txt --library=E:\biocbuild\bbs-3.21-bioc\R\library --no-vignettes --timings rhdf5client_1.29.0.tar.gz StartedAt: 2025-02-13 04:51:11 -0500 (Thu, 13 Feb 2025) EndedAt: 2025-02-13 05:04:12 -0500 (Thu, 13 Feb 2025) EllapsedTime: 780.2 seconds RetCode: 1 Status: ERROR CheckDir: rhdf5client.Rcheck Warnings: NA