Package: rhdf5client Version: 1.29.0 Command: E:\biocbuild\bbs-3.21-bioc\R\bin\R.exe CMD INSTALL rhdf5client StartedAt: 2025-02-09 15:53:09 -0500 (Sun, 09 Feb 2025) EndedAt: 2025-02-09 15:53:56 -0500 (Sun, 09 Feb 2025) EllapsedTime: 46.9 seconds RetCode: 0 Status: OK