Package: ribor Version: 1.19.0 Maintainer: Michael Geng MaintainerEmail: michaelgeng at utexas.edu git_url: https://git.bioconductor.org/packages/ribor git_branch: devel git_last_commit: 390801c git_last_commit_date: 2024-10-29 10:43:58 -0500 (Tue, 29 Oct 2024)