Package: ribor Version: 1.19.0 Command: rm -rf ribor.buildbin-libdir && mkdir ribor.buildbin-libdir && /Users/biocbuild/BBS/utils/build-universal.sh ribor_1.19.0.tar.gz /Library/Frameworks/R.framework/Resources/bin/R ribor.buildbin-libdir StartedAt: 2025-02-12 22:32:51 -0500 (Wed, 12 Feb 2025) EndedAt: 2025-02-12 22:32:56 -0500 (Wed, 12 Feb 2025) EllapsedTime: 5.1 seconds RetCode: 0 Status: OK PackageFile: ribor_1.19.0.tgz PackageFileSize: 4.817 MiB