Package: ribor Version: 1.19.0 Command: /Library/Frameworks/R.framework/Resources/bin/R CMD build --keep-empty-dirs --no-resave-data ribor StartedAt: 2025-02-12 17:24:45 -0500 (Wed, 12 Feb 2025) EndedAt: 2025-02-12 17:25:14 -0500 (Wed, 12 Feb 2025) EllapsedTime: 28.3 seconds RetCode: 0 Status: OK PackageFile: ribor_1.19.0.tar.gz PackageFileSize: 4.616 MiB