Package: ribor Version: 1.19.0 Command: /Library/Frameworks/R.framework/Resources/bin/R CMD check --install=check:ribor.install-out.txt --library=/Library/Frameworks/R.framework/Resources/library --no-vignettes --timings ribor_1.19.0.tar.gz StartedAt: 2025-02-09 20:58:08 -0500 (Sun, 09 Feb 2025) EndedAt: 2025-02-09 20:58:48 -0500 (Sun, 09 Feb 2025) EllapsedTime: 40.4 seconds RetCode: 0 Status: OK CheckDir: ribor.Rcheck Warnings: 0