Package: ribor Version: 1.19.0 Command: /Library/Frameworks/R.framework/Resources/bin/R CMD INSTALL ribor StartedAt: 2025-02-09 15:10:49 -0500 (Sun, 09 Feb 2025) EndedAt: 2025-02-09 15:11:02 -0500 (Sun, 09 Feb 2025) EllapsedTime: 13.2 seconds RetCode: 0 Status: OK