Package: ribor Version: 1.19.0 Command: rm -rf ribor.buildbin-libdir && mkdir ribor.buildbin-libdir && E:\biocbuild\bbs-3.21-bioc\R\bin\R.exe CMD INSTALL --build --library=ribor.buildbin-libdir ribor_1.19.0.tar.gz StartedAt: 2025-02-13 08:43:48 -0500 (Thu, 13 Feb 2025) EndedAt: 2025-02-13 08:44:19 -0500 (Thu, 13 Feb 2025) EllapsedTime: 31.1 seconds RetCode: 0 Status: OK PackageFile: ribor_1.19.0.zip PackageFileSize: 4.089 MiB