Package: ribor Version: 1.19.0 Command: chmod a+r ribor -R && E:\biocbuild\bbs-3.21-bioc\R\bin\R.exe CMD build --keep-empty-dirs --no-resave-data ribor StartedAt: 2025-02-12 21:19:07 -0500 (Wed, 12 Feb 2025) EndedAt: 2025-02-12 21:20:58 -0500 (Wed, 12 Feb 2025) EllapsedTime: 111.2 seconds RetCode: 0 Status: OK PackageFile: ribor_1.19.0.tar.gz PackageFileSize: 3.903 MiB